BEGIN:VCALENDAR
VERSION:2.0
PRODID:-//wp-events-plugin.com//7.2.3.1//EN
BEGIN:VEVENT
UID:30@cexsanturce.org
DTSTART:20260426T080000Z
DTEND:20260426T220000Z
DTSTAMP:20260322T112748Z
URL:https://cexsanturce.org/events/visita-a-frias
SUMMARY:Visita a Frías
DESCRIPTION:
ATTACH;FMTTYPE=image/jpeg:https://cexsanturce.org/wp-content/uploads/2026/
 03/Frias.jpeg
END:VEVENT
END:VCALENDAR