BEGIN:VCALENDAR
VERSION:2.0
PRODID:-//wp-events-plugin.com//7.2.3.1//EN
BEGIN:VEVENT
UID:1@cexsanturce.org
DTSTART:20240627T141500Z
DTEND:20240627T170000Z
DTSTAMP:20240629T093100Z
URL:https://cexsanturce.org/events/jornada
SUMMARY:Jornada gatronómica
DESCRIPTION: 
ATTACH;FMTTYPE=image/jpeg:https://cexsanturce.org/wp-content/uploads/event
 -manager-uploads/event_banner/2024/06/Imagen-de-WhatsApp-2024-06-10-a-las-
 23.29.03_f080dec0-2.jpg
END:VEVENT
END:VCALENDAR