BEGIN:VCALENDAR
VERSION:2.0
PRODID:-//wp-events-plugin.com//7.2.3.1//EN
BEGIN:VEVENT
UID:17@cexsanturce.org
DTSTART:20240427T190000Z
DTEND:20240427T220000Z
DTSTAMP:20250506T192614Z
URL:https://cexsanturce.org/events/dia-del-libro-2024
SUMMARY:Día del libro 2024
DESCRIPTION:Con motivo del día del libro. Vino el escritor Extremeño Albe
 rto Navalón que nos presentó su obra literaria.\n\nAsistieron 60 persona
 s.
END:VEVENT
END:VCALENDAR