BEGIN:VCALENDAR
VERSION:2.0
PRODID:-//wp-events-plugin.com//7.2.3.1//EN
BEGIN:VEVENT
UID:9@cexsanturce.org
DTSTART;VALUE=DATE:20250214
DTEND;VALUE=DATE:20250215
DTSTAMP:20260222T153533Z
URL:https://cexsanturce.org/events/dia-de-los-enamorados-2025
SUMMARY:Carnaval 2025
DESCRIPTION:\n\n[metaslider id="569"]
ATTACH;FMTTYPE=image/jpeg:https://cexsanturce.org/wp-content/uploads/2025/
 05/Cartel-Carnaval-2025.jpg
END:VEVENT
END:VCALENDAR