BEGIN:VCALENDAR
VERSION:2.0
PRODID:-//wp-events-plugin.com//7.2.3.1//EN
BEGIN:VEVENT
UID:6@cexsanturce.org
DTSTART:20240630T110000Z
DTEND:20240630T140000Z
DTSTAMP:20240629T092952Z
URL:https://cexsanturce.org/events/baile-junio-2024
SUMMARY:Baile junio 2024
DESCRIPTION:El próximo día 30 de junio tendremos un bailes..\n\n[metaslid
 er id=194]
ATTACH;FMTTYPE=image/jpeg:https://cexsanturce.org/wp-content/uploads/2024/
 05/bailes-edited.jpg
END:VEVENT
END:VCALENDAR